BEGIN:VCALENDAR
VERSION:2.0
PRODID:-//Ecclesiact 3.3.6b//EN
CALSCALE:GREGORIAN
METHOD:PUBLISH
X-WR-TIMEZONE:America/Toronto
BEGIN:VEVENT
UID:1047990927
TRANSP:OPAQUE
STATUS:CONFIRMED
SEQUENCE:0
CLASS:PUBLIC
DTSTART:20100204T003000Z
DTEND:20100204T023000Z
DTSTAMP:20110612T185655Z
SUMMARY:Hermeneutics & Homiletics Course
DESCRIPTION:Led by Pastor Peters.  https://wpc.ecclesiact.com/hermeneutics--homiletics-course
END:VEVENT
END:VCALENDAR
