BEGIN:VCALENDAR
VERSION:2.0
PRODID:-//Ecclesiact 3.3.6b//EN
CALSCALE:GREGORIAN
METHOD:PUBLISH
X-WR-TIMEZONE:America/Toronto
BEGIN:VEVENT
UID:1059470979
TRANSP:OPAQUE
STATUS:CONFIRMED
SEQUENCE:0
CLASS:PUBLIC
DTSTART:20090308T223000Z
DTEND:20090309T003000Z
DTSTAMP:20110612T185655Z
SUMMARY:Sunday Evening Bible Fellowship
DESCRIPTION:Study and discussion details coming soon.      https://wpc.ecclesiact.com/sunday-evening-bible-fellowship
END:VEVENT
END:VCALENDAR
