BEGIN:VCALENDAR
VERSION:2.0
PRODID:-//Ecclesiact 3.3.6b//EN
CALSCALE:GREGORIAN
METHOD:PUBLISH
X-WR-TIMEZONE:America/Toronto
BEGIN:VEVENT
UID:1104021804
TRANSP:OPAQUE
STATUS:CONFIRMED
SEQUENCE:0
CLASS:PUBLIC
DTSTART;VALUE=DATE:20090208
DTEND;VALUE=DATE:20090209
DTSTAMP:20110612T185655Z
SUMMARY:College & Careers
DESCRIPTION:TONIGHT:  Meet at the Cripps' home for potluck and continuing the study of Crazy Love...Chapter 5.  https://wpc.ecclesiact.com/college--careers
END:VEVENT
END:VCALENDAR
