BEGIN:VCALENDAR
VERSION:2.0
PRODID:-//Ecclesiact 3.3.6b//EN
CALSCALE:GREGORIAN
METHOD:PUBLISH
X-WR-TIMEZONE:America/Toronto
BEGIN:VEVENT
UID:1110749643
TRANSP:OPAQUE
STATUS:CONFIRMED
SEQUENCE:0
CLASS:PUBLIC
DTSTART;VALUE=DATE:20100214
DTEND;VALUE=DATE:20100215
DTSTAMP:20110612T185655Z
SUMMARY:Children's Sunday School
DESCRIPTION:We're studing the book of Exodus!  This week: Exodus 14-15  Key verse: Exodus 14:4  Prepare for next week by reading Exodus 15:22 - 17:7!  https://wpc.ecclesiact.com/childrens-sunday-school
END:VEVENT
END:VCALENDAR
