BEGIN:VCALENDAR
VERSION:2.0
PRODID:-//Ecclesiact 3.3.6b//EN
CALSCALE:GREGORIAN
METHOD:PUBLISH
X-WR-TIMEZONE:America/Toronto
BEGIN:VEVENT
UID:111696055
TRANSP:OPAQUE
STATUS:CONFIRMED
SEQUENCE:0
CLASS:PUBLIC
DTSTART;VALUE=DATE:20100309
DTEND;VALUE=DATE:20100310
DTSTAMP:20110612T185655Z
SUMMARY:Elders Meeting
DESCRIPTION:Elders Meeting    7:30pm   In the Lounge  https://wpc.ecclesiact.com/elders-meeting
END:VEVENT
END:VCALENDAR
