BEGIN:VCALENDAR
VERSION:2.0
PRODID:-//Ecclesiact 3.3.6b//EN
CALSCALE:GREGORIAN
METHOD:PUBLISH
X-WR-TIMEZONE:America/Toronto
BEGIN:VEVENT
UID:1144604069
TRANSP:OPAQUE
STATUS:CONFIRMED
SEQUENCE:0
CLASS:PUBLIC
DTSTART:20091015T230000Z
DTEND:20091016T010000Z
DTSTAMP:20110612T185655Z
SUMMARY:Endeavours Youth Group
DESCRIPTION:Junior High program for youth Grades 6-8  https://wpc.ecclesiact.com/endeavours-youth-group
END:VEVENT
END:VCALENDAR
