BEGIN:VCALENDAR
VERSION:2.0
PRODID:-//Ecclesiact 3.3.6b//EN
CALSCALE:GREGORIAN
METHOD:PUBLISH
X-WR-TIMEZONE:America/Toronto
BEGIN:VEVENT
UID:1161151372
TRANSP:OPAQUE
STATUS:CONFIRMED
SEQUENCE:0
CLASS:PUBLIC
DTSTART:20070922T123000Z
DTEND:20070922T160000Z
DTSTAMP:20110612T185655Z
SUMMARY:Church Cleaning Day!
DESCRIPTION:Vounteers - please bring your own cleaning supplies and we'll see you at the church at 8:30 am.  Coffee provided!  https://wpc.ecclesiact.com/event/1161151372
END:VEVENT
END:VCALENDAR
