BEGIN:VCALENDAR
VERSION:2.0
PRODID:-//Ecclesiact 3.3.6b//EN
CALSCALE:GREGORIAN
METHOD:PUBLISH
X-WR-TIMEZONE:America/Toronto
BEGIN:VEVENT
UID:1200305943
TRANSP:OPAQUE
STATUS:CONFIRMED
SEQUENCE:0
CLASS:PUBLIC
DTSTART:20101201T170000Z
DTEND:20101201T193000Z
DTSTAMP:20110612T185655Z
SUMMARY:Seniors' Christmas Luncheon
DESCRIPTION: If you are a Senior or are close to becoming one, you are invited to join us as we enjoy a potluck lunch together and celebrate Christmas with a tradittional Ham.   https://wpc.ecclesiact.com/seniors-christmas-luncheon
END:VEVENT
END:VCALENDAR
