BEGIN:VCALENDAR
VERSION:2.0
PRODID:-//Ecclesiact 3.3.6b//EN
CALSCALE:GREGORIAN
METHOD:PUBLISH
X-WR-TIMEZONE:America/Toronto
BEGIN:VEVENT
UID:1207921088
TRANSP:OPAQUE
STATUS:CONFIRMED
SEQUENCE:0
CLASS:PUBLIC
DTSTART:20071017T160000Z
DTEND:20071017T080000Z
DTSTAMP:20110612T185655Z
SUMMARY:Seniors' Fellowship Going to Scarborough Historical Museum!
DESCRIPTION:Plan to join us for lunch and a guided tour!  https://wpc.ecclesiact.com/event/1207921088
END:VEVENT
END:VCALENDAR
