BEGIN:VCALENDAR
VERSION:2.0
PRODID:-//Ecclesiact 3.3.6b//EN
CALSCALE:GREGORIAN
METHOD:PUBLISH
X-WR-TIMEZONE:America/Toronto
BEGIN:VEVENT
UID:1211803895
TRANSP:OPAQUE
STATUS:CONFIRMED
SEQUENCE:0
CLASS:PUBLIC
DTSTART;VALUE=DATE:20090215
DTEND;VALUE=DATE:20090216
DTSTAMP:20110612T185655Z
SUMMARY:Worship Service with Children's Program
DESCRIPTION:WORSHIP SERVICE SPEAKER:  Pastor Peters     CHILDREN'S PROGRAM:  Sunday School Teacher - Anne Marchintez       Today's Lesson: &quot;Jesus Begins His Ministry - Jesus and the Children&quot;       Bible Verse:  Let the little children come to me. Luke 18:16       This week's Bible story is from Luke 18:15-17.       Faith Point:  Jesus shows us that God's love is for all people.  https://wpc.ecclesiact.com/sunday-service-with-childrens-program
END:VEVENT
END:VCALENDAR
