BEGIN:VCALENDAR
VERSION:2.0
PRODID:-//Ecclesiact 3.3.6b//EN
CALSCALE:GREGORIAN
METHOD:PUBLISH
X-WR-TIMEZONE:America/Toronto
BEGIN:VEVENT
UID:1216902436
TRANSP:OPAQUE
STATUS:CONFIRMED
SEQUENCE:0
CLASS:PUBLIC
DTSTART:20090131T003000Z
DTEND:20090131T033000Z
DTSTAMP:20110612T185655Z
SUMMARY:LifeSavers Youth Group
DESCRIPTION:Games in the Dark!  https://wpc.ecclesiact.com/lifesavers-youth-group
END:VEVENT
END:VCALENDAR
