BEGIN:VCALENDAR
VERSION:2.0
PRODID:-//Ecclesiact 3.3.6b//EN
CALSCALE:GREGORIAN
METHOD:PUBLISH
X-WR-TIMEZONE:America/Toronto
BEGIN:VEVENT
UID:1223421782
TRANSP:OPAQUE
STATUS:CONFIRMED
SEQUENCE:0
CLASS:PUBLIC
DTSTART:20090419T223000Z
DTEND:20090420T003000Z
DTSTAMP:20110612T185655Z
SUMMARY:Bible Fellowship
DESCRIPTION:  https://wpc.ecclesiact.com/bible-fellowship
END:VEVENT
END:VCALENDAR
