BEGIN:VCALENDAR
VERSION:2.0
PRODID:-//Ecclesiact 3.3.6b//EN
CALSCALE:GREGORIAN
METHOD:PUBLISH
X-WR-TIMEZONE:America/Toronto
BEGIN:VEVENT
UID:1253977517
TRANSP:OPAQUE
STATUS:CONFIRMED
SEQUENCE:0
CLASS:PUBLIC
DTSTART:20100228T160000Z
DTEND:20100228T173000Z
DTSTAMP:20110612T185655Z
SUMMARY:Worship Service
DESCRIPTION:  https://wpc.ecclesiact.com/worship-service
END:VEVENT
END:VCALENDAR
