BEGIN:VCALENDAR
VERSION:2.0
PRODID:-//Ecclesiact 3.3.6b//EN
CALSCALE:GREGORIAN
METHOD:PUBLISH
X-WR-TIMEZONE:America/Toronto
BEGIN:VEVENT
UID:1263730968
TRANSP:OPAQUE
STATUS:CONFIRMED
SEQUENCE:0
CLASS:PUBLIC
DTSTART:20091231T233000Z
DTEND:20100101T010000Z
DTSTAMP:20110612T185655Z
SUMMARY:New Year's Eve Communion Service
DESCRIPTION:  https://wpc.ecclesiact.com/new-years-eve-communion-service
END:VEVENT
END:VCALENDAR
