BEGIN:VCALENDAR
VERSION:2.0
PRODID:-//Ecclesiact 3.3.6b//EN
CALSCALE:GREGORIAN
METHOD:PUBLISH
X-WR-TIMEZONE:America/Toronto
BEGIN:VEVENT
UID:1269548755
TRANSP:OPAQUE
STATUS:CONFIRMED
SEQUENCE:0
CLASS:PUBLIC
DTSTART:20090207T003000Z
DTEND:20090207T033000Z
DTSTAMP:20110612T185655Z
SUMMARY:LifeSavers Youth Program - SNOWFLAKE!
DESCRIPTION:TONIGHT:  Meet at the church at 5:30 pm for our trip to Snowflake!  The bus leaves at 6:00 pm sharp!  https://wpc.ecclesiact.com/lifesavers-youth-program
END:VEVENT
END:VCALENDAR
