BEGIN:VCALENDAR
VERSION:2.0
PRODID:-//Ecclesiact 3.3.6b//EN
CALSCALE:GREGORIAN
METHOD:PUBLISH
X-WR-TIMEZONE:America/Toronto
BEGIN:VEVENT
UID:1294632145
TRANSP:OPAQUE
STATUS:CONFIRMED
SEQUENCE:0
CLASS:PUBLIC
DTSTART;VALUE=DATE:20091004
DTEND;VALUE=DATE:20091005
DTSTAMP:20110612T185655Z
SUMMARY:Children's Sunday School
DESCRIPTION:  https://wpc.ecclesiact.com/childrens-sunday-school--adultteen-bible-class
END:VEVENT
END:VCALENDAR
