BEGIN:VCALENDAR
VERSION:2.0
PRODID:-//Ecclesiact 3.3.6b//EN
CALSCALE:GREGORIAN
METHOD:PUBLISH
X-WR-TIMEZONE:America/Toronto
BEGIN:VEVENT
UID:1314032708
TRANSP:OPAQUE
STATUS:CONFIRMED
SEQUENCE:0
CLASS:PUBLIC
DTSTART;VALUE=DATE:20110808
DTEND;VALUE=DATE:20110809
DTSTAMP:20110621T103406Z
SUMMARY:Pandamania!
DESCRIPTION:This summer Westmount Ministries is planning to put on two different Children's Bible Camps!  One week in July from the 25th to the 29th in South Etobicoke, and also August 8-12 at Westmount Park Church.   For more information please call the office at 416-244-7102  Sign up your children today to enjoy an amazing week of learning!  https://wpc.ecclesiact.com/2011/08/08/pandamania
END:VEVENT
END:VCALENDAR
