BEGIN:VCALENDAR
VERSION:2.0
PRODID:-//Ecclesiact 3.3.6b//EN
CALSCALE:GREGORIAN
METHOD:PUBLISH
X-WR-TIMEZONE:America/Toronto
BEGIN:VEVENT
UID:1319551246
TRANSP:OPAQUE
STATUS:CONFIRMED
SEQUENCE:0
CLASS:PUBLIC
DTSTART;VALUE=DATE:20101031
DTEND;VALUE=DATE:20101101
DTSTAMP:20110612T185655Z
SUMMARY:Seniors Pot-Luck Lunch!
DESCRIPTION:Come and join us as we have lunch together and then listen to Elizabeth Smith talk to us about Life in Nepal.  https://wpc.ecclesiact.com/seniors-pot-luck-lunch
END:VEVENT
END:VCALENDAR
