BEGIN:VCALENDAR
VERSION:2.0
PRODID:-//Ecclesiact 3.3.6b//EN
CALSCALE:GREGORIAN
METHOD:PUBLISH
X-WR-TIMEZONE:America/Toronto
BEGIN:VEVENT
UID:133983119
TRANSP:OPAQUE
STATUS:CONFIRMED
SEQUENCE:0
CLASS:PUBLIC
DTSTART;VALUE=DATE:20080321
DTEND;VALUE=DATE:20080322
DTSTAMP:20110612T185655Z
SUMMARY:Good Friday Service
DESCRIPTION:He Has Risen Indeed!  Children's program provided  https://wpc.ecclesiact.com/event/133983119
END:VEVENT
END:VCALENDAR
