BEGIN:VCALENDAR
VERSION:2.0
PRODID:-//Ecclesiact 3.3.6b//EN
CALSCALE:GREGORIAN
METHOD:PUBLISH
X-WR-TIMEZONE:America/Toronto
BEGIN:VEVENT
UID:1429443902
TRANSP:OPAQUE
STATUS:CONFIRMED
SEQUENCE:0
CLASS:PUBLIC
DTSTART;VALUE=DATE:20090223
DTEND;VALUE=DATE:20090224
DTSTAMP:20110612T185655Z
SUMMARY:Elders' Meeting
DESCRIPTION:  https://wpc.ecclesiact.com/deacons-meeting
END:VEVENT
END:VCALENDAR
