BEGIN:VCALENDAR
VERSION:2.0
PRODID:-//Ecclesiact 3.3.6b//EN
CALSCALE:GREGORIAN
METHOD:PUBLISH
X-WR-TIMEZONE:America/Toronto
BEGIN:VEVENT
UID:1429460063
TRANSP:OPAQUE
STATUS:CONFIRMED
SEQUENCE:0
CLASS:PUBLIC
DTSTART:20110125T170000Z
DTEND:20110126T045900Z
DTSTAMP:20110612T185655Z
SUMMARY:Senior's Fellowship 
DESCRIPTION:If you are a Senior and you would like to come and hear a special speaker, meet new friends and enjoy soup and sandwitches together, then please join us! Soup will be provided and everyone can bring their own sandwitches. All Seniors are welcome!!!  https://wpc.ecclesiact.com/seniors-fellowship-
END:VEVENT
END:VCALENDAR
