BEGIN:VCALENDAR
VERSION:2.0
PRODID:-//Ecclesiact 3.3.6b//EN
CALSCALE:GREGORIAN
METHOD:PUBLISH
X-WR-TIMEZONE:America/Toronto
BEGIN:VEVENT
UID:1430926001
TRANSP:OPAQUE
STATUS:CONFIRMED
SEQUENCE:0
CLASS:PUBLIC
DTSTART:20090412T150000Z
DTEND:20090412T163000Z
DTSTAMP:20110612T185655Z
SUMMARY:Worship Service with Children's Program
DESCRIPTION:WORSHIP SERVICE SPEAKER:  Pastor Peters    CHILDREN'S PROGRAM:  Sunday School Teacher - Magda Davey         Today's Lesson:  &quot;Easter and Beyond - Jesus Lives!&quot;         Bible Verse:  He is not here; for He has been raised, as He said. Matthew 28:6              This week's Bible story is from Matthew 28:1-10.         Faith Point:  God raised Jesus from the dead.          https://wpc.ecclesiact.com/worship-service-with-childrens-program
END:VEVENT
END:VCALENDAR
