BEGIN:VCALENDAR
VERSION:2.0
PRODID:-//Ecclesiact 3.3.6b//EN
CALSCALE:GREGORIAN
METHOD:PUBLISH
X-WR-TIMEZONE:America/Toronto
BEGIN:VEVENT
UID:1430991459
TRANSP:OPAQUE
STATUS:CONFIRMED
SEQUENCE:0
CLASS:PUBLIC
DTSTART:20110612T143000Z
DTEND:20110612T160000Z
DTSTAMP:20110612T185655Z
SUMMARY:Pentecost Celebration
DESCRIPTION:Welcome to a Pentecost celebration Sunday June 12, 2011.   We will be seated at tables for the morning service which starts at 10:30am, and will eat a meal together prepared in the same way a meal would have been prepared in Jerusalem during the time Pentecost took place.   If you would like to join us, or would like to know the meaning of Pentecost, please contact the office at 416-244-7102  https://wpc.ecclesiact.com/pentecost-celebration
END:VEVENT
END:VCALENDAR
