BEGIN:VCALENDAR
VERSION:2.0
PRODID:-//Ecclesiact 3.3.6b//EN
CALSCALE:GREGORIAN
METHOD:PUBLISH
X-WR-TIMEZONE:America/Toronto
BEGIN:VEVENT
UID:1433349493
TRANSP:OPAQUE
STATUS:CONFIRMED
SEQUENCE:0
CLASS:PUBLIC
DTSTART;VALUE=DATE:20091205
DTEND;VALUE=DATE:20091206
DTSTAMP:20110612T185655Z
SUMMARY:Elijah's Prayer Room
DESCRIPTION:Join us for a time of prayer for our congregations and their families.  https://wpc.ecclesiact.com/elijahs-prayer-room
END:VEVENT
END:VCALENDAR
