BEGIN:VCALENDAR
VERSION:2.0
PRODID:-//Ecclesiact 3.3.6b//EN
CALSCALE:GREGORIAN
METHOD:PUBLISH
X-WR-TIMEZONE:America/Toronto
BEGIN:VEVENT
UID:1444534800
TRANSP:OPAQUE
STATUS:CONFIRMED
SEQUENCE:0
CLASS:PUBLIC
DTSTART:20090524T150000Z
DTEND:20090524T163000Z
DTSTAMP:20110612T185655Z
SUMMARY:Worship Service with Children's Program
DESCRIPTION:Sunday School Memory Verse: &quot;It was in Antioch that the disciples were first called 'Christians'.&quot; Acts 11:26  Bible Story: Acts 11:19-26  &quot;First Called Christians&quot;  https://wpc.ecclesiact.com/worship-service-with-childrens-program
END:VEVENT
END:VCALENDAR
