BEGIN:VCALENDAR
VERSION:2.0
PRODID:-//Ecclesiact 3.3.6b//EN
CALSCALE:GREGORIAN
METHOD:PUBLISH
X-WR-TIMEZONE:America/Toronto
BEGIN:VEVENT
UID:1449955959
TRANSP:OPAQUE
STATUS:CONFIRMED
SEQUENCE:0
CLASS:PUBLIC
DTSTART;VALUE=DATE:20100117
DTEND;VALUE=DATE:20100118
DTSTAMP:20110612T185655Z
SUMMARY:Children's Sunday School
DESCRIPTION:We're in the book of Exodus!  This week: Exodus 1-2  Key Verse: Exodus 2:24  Prepare for next week by reading Exodus 3-4!  https://wpc.ecclesiact.com/childrens-sunday-school
END:VEVENT
END:VCALENDAR
