BEGIN:VCALENDAR
VERSION:2.0
PRODID:-//Ecclesiact 3.3.6b//EN
CALSCALE:GREGORIAN
METHOD:PUBLISH
X-WR-TIMEZONE:America/Toronto
BEGIN:VEVENT
UID:1461567021
TRANSP:OPAQUE
STATUS:CONFIRMED
SEQUENCE:0
CLASS:PUBLIC
DTSTART;VALUE=DATE:20090329
DTEND;VALUE=DATE:20090330
DTSTAMP:20110612T185655Z
SUMMARY:Worship Service with Children's Program
DESCRIPTION:WORSHIP SERVICE SPEAKER:  Pastor Peters    CHILDREN'S PROGRAM:  Sunday School Teacher - Joan Wanuch         Today's Lesson:  &quot;Peter&quot;         Bible Verse:  For you, O Lord, are good and forgiving.  Psalm 86:5         This week's Bible story is from Luke 22:54-62         Faith Point:  God never stops loving us, even when we make mistakes.  https://wpc.ecclesiact.com/worship-service-with-childrens-program
END:VEVENT
END:VCALENDAR
