BEGIN:VCALENDAR
VERSION:2.0
PRODID:-//Ecclesiact 3.3.6b//EN
CALSCALE:GREGORIAN
METHOD:PUBLISH
X-WR-TIMEZONE:America/Toronto
BEGIN:VEVENT
UID:1471893064
TRANSP:OPAQUE
STATUS:CONFIRMED
SEQUENCE:0
CLASS:PUBLIC
DTSTART;VALUE=DATE:20100228
DTEND;VALUE=DATE:20100301
DTSTAMP:20110612T185655Z
SUMMARY:Children's Sunday School
DESCRIPTION:We're studying the book of Exodus!  This week: Exodus 19  Key verse: Exodus 19:5  Prepare for next week by reading Exodus 20:1-21!  https://wpc.ecclesiact.com/childrens-sunday-school
END:VEVENT
END:VCALENDAR
