BEGIN:VCALENDAR
VERSION:2.0
PRODID:-//Ecclesiact 3.3.6b//EN
CALSCALE:GREGORIAN
METHOD:PUBLISH
X-WR-TIMEZONE:America/Toronto
BEGIN:VEVENT
UID:1497278316
TRANSP:OPAQUE
STATUS:CONFIRMED
SEQUENCE:0
CLASS:PUBLIC
DTSTART:20090218T233000Z
DTEND:20090219T010000Z
DTSTAMP:20110612T185655Z
SUMMARY:OneWay Youth Program
DESCRIPTION:  https://wpc.ecclesiact.com/oneway-youth-program
END:VEVENT
END:VCALENDAR
