BEGIN:VCALENDAR
VERSION:2.0
PRODID:-//Ecclesiact 3.3.6b//EN
CALSCALE:GREGORIAN
METHOD:PUBLISH
X-WR-TIMEZONE:America/Toronto
BEGIN:VEVENT
UID:1526203180
TRANSP:OPAQUE
STATUS:CONFIRMED
SEQUENCE:0
CLASS:PUBLIC
DTSTART;VALUE=DATE:20080420
DTEND;VALUE=DATE:20080421
DTSTAMP:20110612T185655Z
SUMMARY:Sunday Morning Missions Conference
DESCRIPTION:Our Missions Conference continues with speakers from Toronto's Light Patrol and Daystar Native Outreach in Manitoulin Island!  https://wpc.ecclesiact.com/event/1526203180
END:VEVENT
END:VCALENDAR
