BEGIN:VCALENDAR
VERSION:2.0
PRODID:-//Ecclesiact 3.3.6b//EN
CALSCALE:GREGORIAN
METHOD:PUBLISH
X-WR-TIMEZONE:America/Toronto
BEGIN:VEVENT
UID:1534346352
TRANSP:OPAQUE
STATUS:CONFIRMED
SEQUENCE:0
CLASS:PUBLIC
DTSTART:20100131T180000Z
DTEND:20100131T190000Z
DTSTAMP:20110612T185655Z
SUMMARY:Lifesaver's Bible Study
DESCRIPTION:  https://wpc.ecclesiact.com/lifesavers-bible-study
END:VEVENT
END:VCALENDAR
