BEGIN:VCALENDAR
VERSION:2.0
PRODID:-//Ecclesiact 3.3.6b//EN
CALSCALE:GREGORIAN
METHOD:PUBLISH
X-WR-TIMEZONE:America/Toronto
BEGIN:VEVENT
UID:1538107396
TRANSP:OPAQUE
STATUS:CONFIRMED
SEQUENCE:0
CLASS:PUBLIC
DTSTART:20100402T143000Z
DTEND:20100402T153000Z
DTSTAMP:20110612T185655Z
SUMMARY:Good Friday Worship Service
DESCRIPTION:There will be a Good Friday Worship and Communion Service on Friday, April 2, 2010. All are welcome!  https://wpc.ecclesiact.com/good-friday-worship-service
END:VEVENT
END:VCALENDAR
