BEGIN:VCALENDAR
VERSION:2.0
PRODID:-//Ecclesiact 3.3.6b//EN
CALSCALE:GREGORIAN
METHOD:PUBLISH
X-WR-TIMEZONE:America/Toronto
BEGIN:VEVENT
UID:1542114693
TRANSP:OPAQUE
STATUS:CONFIRMED
SEQUENCE:0
CLASS:PUBLIC
DTSTART:20090117T003000Z
DTEND:20090117T033000Z
DTSTAMP:20110612T185655Z
SUMMARY:LifeSavers Youth Group
DESCRIPTION:Downtown Trip to deliver socks and sandwiches to the homeless.  Meet at Royal York Subway Station at 7:15 pm!  For more details, call Andrew Ironside at 416-277-0360.  https://wpc.ecclesiact.com/lifesavers-youth-group
END:VEVENT
END:VCALENDAR
