BEGIN:VCALENDAR
VERSION:2.0
PRODID:-//Ecclesiact 3.3.6b//EN
CALSCALE:GREGORIAN
METHOD:PUBLISH
X-WR-TIMEZONE:America/Toronto
BEGIN:VEVENT
UID:1544224853
TRANSP:OPAQUE
STATUS:CONFIRMED
SEQUENCE:0
CLASS:PUBLIC
DTSTART;VALUE=DATE:20090207
DTEND;VALUE=DATE:20090208
DTSTAMP:20110612T185655Z
SUMMARY:Sunday School Teachers' Meeting
DESCRIPTION:  https://wpc.ecclesiact.com/sunday-school-teachers-meeting
END:VEVENT
END:VCALENDAR
