BEGIN:VCALENDAR
VERSION:2.0
PRODID:-//Ecclesiact 3.3.6b//EN
CALSCALE:GREGORIAN
METHOD:PUBLISH
X-WR-TIMEZONE:America/Toronto
BEGIN:VEVENT
UID:1560512181
TRANSP:OPAQUE
STATUS:CONFIRMED
SEQUENCE:0
CLASS:PUBLIC
DTSTART:20090329T163000Z
DTEND:20090329T193000Z
DTSTAMP:20110612T185655Z
SUMMARY:Lunch & Learn Planning Seminar
DESCRIPTION:  https://wpc.ecclesiact.com/lunch--learn-planning-seminar
END:VEVENT
END:VCALENDAR
