BEGIN:VCALENDAR
VERSION:2.0
PRODID:-//Ecclesiact 3.3.6b//EN
CALSCALE:GREGORIAN
METHOD:PUBLISH
X-WR-TIMEZONE:America/Toronto
BEGIN:VEVENT
UID:1579879369
TRANSP:OPAQUE
STATUS:CONFIRMED
SEQUENCE:0
CLASS:PUBLIC
DTSTART;VALUE=DATE:20081109
DTEND;VALUE=DATE:20081110
DTSTAMP:20110612T185655Z
SUMMARY:Anniversary Sunday
DESCRIPTION:Come and celebrate with us!  On this Sunday we will focus on the Fusion Ministry that Sunil Kapur is heading up.  Come and enjoy a fabulous breakfast with us at 9 A.M. and stay for the worship service to learn about this up-and-coming ministry to South Asians in Greater Toronto.  https://wpc.ecclesiact.com/anniversary-sunday
END:VEVENT
END:VCALENDAR
