BEGIN:VCALENDAR
VERSION:2.0
PRODID:-//Ecclesiact 3.3.6b//EN
CALSCALE:GREGORIAN
METHOD:PUBLISH
X-WR-TIMEZONE:America/Toronto
BEGIN:VEVENT
UID:1584469183
TRANSP:OPAQUE
STATUS:CONFIRMED
SEQUENCE:0
CLASS:PUBLIC
DTSTART;VALUE=DATE:20081224
DTEND;VALUE=DATE:20081225
DTSTAMP:20110612T185655Z
SUMMARY:Christmas Eve Family Service
DESCRIPTION:We invite you to spend an evening with us as we celebrate the joy of Christ's birth!  https://wpc.ecclesiact.com/christmas-eve-family-service
END:VEVENT
END:VCALENDAR
