BEGIN:VCALENDAR
VERSION:2.0
PRODID:-//Ecclesiact 3.3.6b//EN
CALSCALE:GREGORIAN
METHOD:PUBLISH
X-WR-TIMEZONE:America/Toronto
BEGIN:VEVENT
UID:1621867050
TRANSP:OPAQUE
STATUS:CONFIRMED
SEQUENCE:0
CLASS:PUBLIC
DTSTART:20091210T200000Z
DTEND:20091210T230000Z
DTSTAMP:20110612T185655Z
SUMMARY:Drop In for Youth
DESCRIPTION:Hang out, have fun, make friends!  Discuss relevent issues about people, life & God.  Every Thursday after school until 6 pm.  https://wpc.ecclesiact.com/drop-in-for-youth
END:VEVENT
END:VCALENDAR
