BEGIN:VCALENDAR
VERSION:2.0
PRODID:-//Ecclesiact 3.3.6b//EN
CALSCALE:GREGORIAN
METHOD:PUBLISH
X-WR-TIMEZONE:America/Toronto
BEGIN:VEVENT
UID:1644622587
TRANSP:OPAQUE
STATUS:CONFIRMED
SEQUENCE:0
CLASS:PUBLIC
DTSTART:20090607T213000Z
DTEND:20090608T010000Z
DTSTAMP:20110612T185655Z
SUMMARY:BBQ and HymnFest
DESCRIPTION:BBQ at 5:30 pm and HymnFest at 7:00 pm.  https://wpc.ecclesiact.com/bbq-and-hymnfest
END:VEVENT
END:VCALENDAR
