BEGIN:VCALENDAR
VERSION:2.0
PRODID:-//Ecclesiact 3.3.6b//EN
CALSCALE:GREGORIAN
METHOD:PUBLISH
X-WR-TIMEZONE:America/Toronto
BEGIN:VEVENT
UID:1644899062
TRANSP:OPAQUE
STATUS:CONFIRMED
SEQUENCE:0
CLASS:PUBLIC
DTSTART:20100214T000000Z
DTEND:20100214T023000Z
DTSTAMP:20110612T185655Z
SUMMARY:An Evening with Harpist and Speaker Eduard Klassen
DESCRIPTION:Join us for an evening of Christian Instrumental Music!  We are please to have Eduard Klassen minister to us through his music on the Paraguayan Folk Harp.  Call the church for more details.  https://wpc.ecclesiact.com/an-evening-with-harpist-and-speaker-eduard-klassen
END:VEVENT
END:VCALENDAR
