BEGIN:VCALENDAR
VERSION:2.0
PRODID:-//Ecclesiact 3.3.6b//EN
CALSCALE:GREGORIAN
METHOD:PUBLISH
X-WR-TIMEZONE:America/Toronto
BEGIN:VEVENT
UID:1667814723
TRANSP:OPAQUE
STATUS:CONFIRMED
SEQUENCE:0
CLASS:PUBLIC
DTSTART:20090213T000000Z
DTEND:20090213T020000Z
DTSTAMP:20110612T185655Z
SUMMARY:Endeavours Youth Program
DESCRIPTION:TONIGHT:  Valentine's Party!  https://wpc.ecclesiact.com/endeavours-youth-program
END:VEVENT
END:VCALENDAR
