BEGIN:VCALENDAR
VERSION:2.0
PRODID:-//Ecclesiact 3.3.6b//EN
CALSCALE:GREGORIAN
METHOD:PUBLISH
X-WR-TIMEZONE:America/Toronto
BEGIN:VEVENT
UID:1672688605
TRANSP:OPAQUE
STATUS:CONFIRMED
SEQUENCE:0
CLASS:PUBLIC
DTSTART:20090524T223000Z
DTEND:20090525T000000Z
DTSTAMP:20110612T185655Z
SUMMARY:Bible Fellowship Study Group
DESCRIPTION:  https://wpc.ecclesiact.com/bible-fellowship-study-group
END:VEVENT
END:VCALENDAR
