BEGIN:VCALENDAR
VERSION:2.0
PRODID:-//Ecclesiact 3.3.6b//EN
CALSCALE:GREGORIAN
METHOD:PUBLISH
X-WR-TIMEZONE:America/Toronto
BEGIN:VEVENT
UID:1674928243
TRANSP:OPAQUE
STATUS:CONFIRMED
SEQUENCE:0
CLASS:PUBLIC
DTSTART:20110422T143000Z
DTEND:20110422T160000Z
DTSTAMP:20110612T185655Z
SUMMARY:Good Friday Service
DESCRIPTION:We welcome you to join us on Good Friday as we meet to meditate and reflect on what our Saviour has done for us.  https://wpc.ecclesiact.com/good-friday-service
END:VEVENT
END:VCALENDAR
