BEGIN:VCALENDAR
VERSION:2.0
PRODID:-//Ecclesiact 3.3.6b//EN
CALSCALE:GREGORIAN
METHOD:PUBLISH
X-WR-TIMEZONE:America/Toronto
BEGIN:VEVENT
UID:1704208576
TRANSP:OPAQUE
STATUS:CONFIRMED
SEQUENCE:0
CLASS:PUBLIC
DTSTART;VALUE=DATE:20071224
DTEND;VALUE=DATE:20071225
DTSTAMP:20110612T185655Z
SUMMARY:Christmas Eve Family Carol Sing
DESCRIPTION:Join us on Christmas Eve for a time of singing and rejoicing as we celebrate the birth of Jesus Christ, our Lord and Saviour!  https://wpc.ecclesiact.com/event/1704208576
END:VEVENT
END:VCALENDAR
