BEGIN:VCALENDAR
VERSION:2.0
PRODID:-//Ecclesiact 3.3.6b//EN
CALSCALE:GREGORIAN
METHOD:PUBLISH
X-WR-TIMEZONE:America/Toronto
BEGIN:VEVENT
UID:1711474033
TRANSP:OPAQUE
STATUS:CONFIRMED
SEQUENCE:0
CLASS:PUBLIC
DTSTART;VALUE=DATE:20090211
DTEND;VALUE=DATE:20090212
DTSTAMP:20110612T185655Z
SUMMARY:Missions Committee Meeting
DESCRIPTION:  https://wpc.ecclesiact.com/missions-committee-meeting
LOCATION:Dorothy Baxter's Home.
END:VEVENT
END:VCALENDAR
