BEGIN:VCALENDAR
VERSION:2.0
PRODID:-//Ecclesiact 3.3.6b//EN
CALSCALE:GREGORIAN
METHOD:PUBLISH
X-WR-TIMEZONE:America/Toronto
BEGIN:VEVENT
UID:1715884410
TRANSP:OPAQUE
STATUS:CONFIRMED
SEQUENCE:0
CLASS:PUBLIC
DTSTART;VALUE=DATE:20091024
DTEND;VALUE=DATE:20091025
DTSTAMP:20110612T185655Z
SUMMARY:A Musical Night with Reynold Rutledge
DESCRIPTION:Join us for a delightful musical interlude with Reynold Rutledge on the Marimba!  Everyone is welcome to join us for a night of music, with dessert & coffee to follow.  https://wpc.ecclesiact.com/a-musical-night-with-reynold-rutledge
END:VEVENT
END:VCALENDAR
