BEGIN:VCALENDAR
VERSION:2.0
PRODID:-//Ecclesiact 3.3.6b//EN
CALSCALE:GREGORIAN
METHOD:PUBLISH
X-WR-TIMEZONE:America/Toronto
BEGIN:VEVENT
UID:1734248686
TRANSP:OPAQUE
STATUS:CONFIRMED
SEQUENCE:0
CLASS:PUBLIC
DTSTART:20090419T150000Z
DTEND:20090419T163000Z
DTSTAMP:20110612T185655Z
SUMMARY:Worship Service with Children's Program
DESCRIPTION:WORSHIP SERVICE SPEAKER:  Pastor Peters    CHILDREN'S PROGRAM:  Sunday School Teacher - Magda Davey         Today's Lesson:  &quot;Easter and Beyond: Emmaus Road&quot;         Bible Verse:  The Lord has risen indeed.  Luke 24:34         This week's Bible story is from Luke 24:13-35         Faith Point:  Jesus is alive and with us today.  https://wpc.ecclesiact.com/worship-service-with-childrens-program
END:VEVENT
END:VCALENDAR
