BEGIN:VCALENDAR
VERSION:2.0
PRODID:-//Ecclesiact 3.3.6b//EN
CALSCALE:GREGORIAN
METHOD:PUBLISH
X-WR-TIMEZONE:America/Toronto
BEGIN:VEVENT
UID:1749334727
TRANSP:OPAQUE
STATUS:CONFIRMED
SEQUENCE:0
CLASS:PUBLIC
DTSTART;VALUE=DATE:20090208
DTEND;VALUE=DATE:20090209
DTSTAMP:20110612T185655Z
SUMMARY:Worship Service with Children's Program
DESCRIPTION:WORSHIP SERVICE:  Pastor Peters speaking from Romans 15    CHILDREN'S PROGRAM:  Sunday School Teacher - Anne Marchinetz       Today's Lesson:  &quot;Jesus Begins His Ministry - Jesus Calls Disciples&quot;       Bible Verse:  And Jesus said to them, &quot;Follow me.&quot; Mark 1:17       This week's Bible story is from Luke 5:1-11 and 27-32.       Faith Point: Jesus calls us to tell others about God.  https://wpc.ecclesiact.com/sunday-service-with-childrens-program
END:VEVENT
END:VCALENDAR
