BEGIN:VCALENDAR
VERSION:2.0
PRODID:-//Ecclesiact 3.3.6b//EN
CALSCALE:GREGORIAN
METHOD:PUBLISH
X-WR-TIMEZONE:America/Toronto
BEGIN:VEVENT
UID:1758252377
TRANSP:OPAQUE
STATUS:CONFIRMED
SEQUENCE:0
CLASS:PUBLIC
DTSTART:20091113T000000Z
DTEND:20091113T020000Z
DTSTAMP:20110612T185655Z
SUMMARY:Endeavours Youth Group
DESCRIPTION:Junior High program for youth Grades 6-8  https://wpc.ecclesiact.com/endeavours-youth-progra
END:VEVENT
END:VCALENDAR
