BEGIN:VCALENDAR
VERSION:2.0
PRODID:-//Ecclesiact 3.3.6b//EN
CALSCALE:GREGORIAN
METHOD:PUBLISH
X-WR-TIMEZONE:America/Toronto
BEGIN:VEVENT
UID:1768769623
TRANSP:OPAQUE
STATUS:CONFIRMED
SEQUENCE:0
CLASS:PUBLIC
DTSTART:20091026T233000Z
DTEND:20091027T013000Z
DTSTAMP:20110612T185655Z
SUMMARY:Annual General Meeting
DESCRIPTION:  We encourage you to attend this event and hear the great things that God is accomplishing through Westmount Park Church and The Summit Church!  https://wpc.ecclesiact.com/annual-general-meeting
END:VEVENT
END:VCALENDAR
